Workbook

Sheet PLANILHA DE PREÇOS
A1: SAEG – COMPANHIA DE SERVIÇO DE ÁGUA, ESGOTO E RESÍDUOS DE GUARATINGUETÁ
A2: CNPJ 09.134.807/0001-91 – Guaratinguetá/SP
A3: PROCESSO DE LICITAÇÃO Nº 007/2026
A4: MODELO – PLANILHA DE PROPOSTA DE PREÇOS
A5: Objeto: Construção do Sistema de Esgotamento Sanitário (SES) Eng. Neiva – Vila Bela – Guaratinguetá/SP
A7: Licitante (razão social):
A8: CNPJ:
A9: Endereço:
A10: Telefone / e-mail:
A11: Validade da proposta (dias):
A13: Preencha apenas a coluna "Custo unitário sem BDI" (células em amarelo), com duas casas decimais. O BDI de cada item vem da aba "COMPOSIÇÃO DO BDI"; preço unitário, preço total e subtotais são calculados automaticamente. Não altere descrições, unidades nem quantidades. Exemplo: custo unitário de R$ 10,00 com BDI de 26,04% → preço unitário R$ 12,60.
A14: ="BDI 1 (obras e serviços): "&ROUND('COMPOSIÇÃO DO BDI'!$C$24*100,2)&"% | BDI 2 (materiais e equipamentos): "&ROUND('COMPOSIÇÃO DO BDI'!$D$24*100,2)&"% | BDI 3 (administração local): "&ROUND('COMPOSIÇÃO DO BDI'!$E$24*100,2)&"%" -> BDI 1 (obras e serviços): 0% | BDI 2 (materiais e equipamentos): 0% | BDI 3 (administração local): 0%
A16: Item | B16: Descrição | C16: Unid. | D16: Quantidade | E16: Custo unitário sem BDI (R$) | F16: Tipo de BDI | G16: BDI (%) | H16: Preço unitário com BDI (R$) | I16: Preço total (R$)
B17: TOTAL GERAL – Construção do SES Eng. Neiva - Vila Bela | I17: =SUBTOTAL(9,I18:I1943) -> 0
A18: 1. | B18: COLETOR BASF | I18: =SUBTOTAL(9,I19:I96) -> 0
A19: 1.1. | B19: Serviços Técnicos | I19: =SUBTOTAL(9,I20:I23) -> 0
A20: 1.1.1. | B20: Locação e Cadastro | I20: =SUBTOTAL(9,I21:I23) -> 0
A21: 1.1.1.0.1. | B21: LOCAÇÃO DE ADUTORAS, COLETORES-TRONCO E INTERCEPTORES (ATÉ DIÂMETRO 500 MM) | C21: M | D21: 305.8 | F21: BDI 1 | G21: ='COMPOSIÇÃO DO BDI'!$C$24 -> 0 | H21: =ROUND(E21*(1+G21),2) -> 0 | I21: =ROUND(D21*H21,2) -> 0
A22: 1.1.1.0.2. | B22: CADASTRO DE ADUTORAS, COLETORES-TRONCO E INTERCEPTORES (ATÉ DIÂMETRO 500 MM) | C22: M | D22: 305.8 | F22: BDI 1 | G22: ='COMPOSIÇÃO DO BDI'!$C$24 -> 0 | H22: =ROUND(E22*(1+G22),2) -> 0 | I22: =ROUND(D22*H22,2) -> 0
A23: 1.1.1.0.3. | B23: CADASTRO DE POÇO DE VISITA, POÇO DE INSPEÇÃO E CAIXAS DE PASSAGEM | C23: UNID | D23: 8 | F23: BDI 1 | G23: ='COMPOSIÇÃO DO BDI'!$C$24 -> 0 | H23: =ROUND(E23*(1+G23),2) -> 0 | I23: =ROUND(D23*H23,2) -> 0
A24: 1.2. | B24: Serviços Preliminares | I24: =SUBTOTAL(9,I25:I31) -> 0
A25: 1.2.1. | B25: Trânsito e Segurança | I25: =SUBTOTAL(9,I26:I28) -> 0
A26: 1.2.1.0.1. | B26: SINALIZAÇÃO DE TRÁFEGO | C26: M | D26: 160 | F26: BDI 1 | G26: ='COMPOSIÇÃO DO BDI'!$C$24 -> 0 | H26: =ROUND(E26*(1+G26),2) -> 0 | I26: =ROUND(D26*H26,2) -> 0
A27: 1.2.1.0.2. | B27: TAPUME CONTÍNUO EM CHAPAS DE MADEIRA | C27: M | D27: 305.8 | F27: BDI 1 | G27: ='COMPOSIÇÃO DO BDI'!$C$24 -> 0 | H27: =ROUND(E27*(1+G27),2) -> 0 | I27: =ROUND(D27*H27,2) -> 0
A28: 1.2.1.0.3. | B28: FORNECIMENTO E INSTALAÇÃO DE PLACA DE OBRA COM CHAPA GALVANIZADA E ESTRUTURA DE MADEIRA. AF_03/2022_PS | C28: M2 | D28: 8 | F28: BDI 1 | G28: ='COMPOSIÇÃO DO BDI'!$C$24 -> 0 | H28: =ROUND(E28*(1+G28),2) -> 0 | I28: =ROUND(D28*H28,2) -> 0
A29: 1.2.2. | B29: Passadiços e Travessias | I29: =SUBTOTAL(9,I30:I31) -> 0
A30: 1.2.2.0.1. | B30: PASSADIÇOS DE MADEIRA PARA PEDESTRES | C30: M2 | D30: 30 | F30: BDI 1 | G30: ='COMPOSIÇÃO DO BDI'!$C$24 -> 0 | H30: =ROUND(E30*(1+G30),2) -> 0 | I30: =ROUND(D30*H30,2) -> 0
A31: 1.2.2.0.2. | B31: PASSADIÇOS DE CHAPA METÁLICA PARA VEÍCULOS | C31: M2 | D31: 60 | F31: BDI 1 | G31: ='COMPOSIÇÃO DO BDI'!$C$24 -> 0 | H31: =ROUND(E31*(1+G31),2) -> 0 | I31: =ROUND(D31*H31,2) -> 0
A32: 1.3. | B32: Movimento de Terra | I32: =SUBTOTAL(9,I33:I46) -> 0
A33: 1.3.1. | B33: Escavação de valas, qualquer terreno, exceto rocha-coletores tronco e interceptores | I33: =SUBTOTAL(9,I34:I38) -> 0
A34: 1.3.1.0.1. | B34: ESCAVAÇÃO MECANIZADA DE VALA COM PROF. ATÉ 1,5 M (MÉDIA MONTANTE E JUSANTE/UMA COMPOSIÇÃO POR TRECHO), ESCAVADEIRA (0,8 M3),LARG. MENOR QUE 1,5 M, EM SOLO DE 1A CATEGORIA, LOCAIS COM BAIXO NÍVEL DE INTERFERÊNCIA. AF_09/2024 | C34: M3 | D34: 10.91 | F34: BDI 1 | G34: ='COMPOSIÇÃO DO BDI'!$C$24 -> 0 | H34: =ROUND(E34*(1+G34),2) -> 0 | I34: =ROUND(D34*H34,2) -> 0
A35: 1.3.1.0.2. | B35: ESCAVAÇÃO MECANIZADA DE VALA COM PROF. MAIOR QUE 1,5 M E ATÉ 3,0 M(MÉDIA MONTANTE E JUSANTE/UMA COMPOSIÇÃO POR TRECHO), ESCAVADEIRA (0,8 M3), LARG. MENOR QUE 1,5 M, EM SOLO DE 1A CATEGORIA, LOCAIS COM BAIXO NÍVEL DE INTERFERÊNCIA. AF_09/2024 | C35: M3 | D35: 199.77 | F35: BDI 1 | G35: ='COMPOSIÇÃO DO BDI'!$C$24 -> 0 | H35: =ROUND(E35*(1+G35),2) -> 0 | I35: =ROUND(D35*H35,2) -> 0
A36: 1.3.1.0.3. | B36: ESCAVAÇÃO MECANIZADA DE VALA COM PROF. MAIOR QUE 3,0 M ATÉ 4,5 M (MÉDIA MONTANTE E JUSANTE/UMA COMPOSIÇÃO POR TRECHO), ESCAVADEIRA (0,8 M3), LARG. MENOR QUE 1,5 M, EM SOLO DE 1A CATEGORIA, LOCAIS COM BAIXO NÍVEL DE INTERFERÊNCIA. AF_09/2024 | C36: M3 | D36: 266.2 | F36: BDI 1 | G36: ='COMPOSIÇÃO DO BDI'!$C$24 -> 0 | H36: =ROUND(E36*(1+G36),2) -> 0 | I36: =ROUND(D36*H36,2) -> 0
A37: 1.3.1.0.4. | B37: ESCAVAÇÃO MECANIZADA DE VALA COM PROF. MAIOR QUE 4,5 M ATÉ 6,0 M (MÉDIA MONTANTE E JUSANTE/UMA COMPOSIÇÃO POR TRECHO),COM ESCAVADEIRA (0,8 M3), LARG. MENOR QUE 1,5 M, EM SOLO DE 1A CATEGORIA, LOCAIS COM BAIXO NÍVEL DE INTERFERÊNCIA. AF_09/2024 | C37: M3 | D37: 1078.8 | F37: BDI 1 | G37: ='COMPOSIÇÃO DO BDI'!$C$24 -> 0 | H37: =ROUND(E37*(1+G37),2) -> 0 | I37: =ROUND(D37*H37,2) -> 0
A38: 1.3.1.0.5. | B38: PREPARO DE FUNDO DE VALA COM LARGURA MENOR QUE 1,5 M (ACERTO DO SOLO NATURAL), EM LOCAL COM NÍVEL BAIXO DE INTERFERÊNCIA. AF_01/2026 | C38: M2 | D38: 413.64 | F38: BDI 1 | G38: ='COMPOSIÇÃO DO BDI'!$C$24 -> 0 | H38: =ROUND(E38*(1+G38),2) -> 0 | I38: =ROUND(D38*H38,2) -> 0
A39: 1.3.2. | B39: Aterros e recobrimentos especiais de valas, poços e cavas | I39: =SUBTOTAL(9,I40:I42) -> 0
A40: 1.3.2.0.1. | B40: REATERRO MECANIZADO DE VALA COM RETROESCAVADEIRA (CAPACIDADE DA CAÇAMBA DA RETRO: 0,26 M³/POTÊNCIA: 88 HP), LARGURA 0,8 A 1,5 M, PROFUNDIDADE ATÉ 1,5 M, COM SOLO (SEM SUBSTITUIÇÃO) DE 1ª CATEGORIA, COM COMPACTADOR DE SOLOS DE PERCUSSÃO AF_08/2023 | C40: M3 | D40: 9.14 | F40: BDI 1 | G40: ='COMPOSIÇÃO DO BDI'!$C$24 -> 0 | H40: =ROUND(E40*(1+G40),2) -> 0 | I40: =ROUND(D40*H40,2) -> 0
A41: 1.3.2.0.2. | B41: REATERRO MECANIZADO DE VALA COM RETROESCAVADEIRA (CAPACIDADE DA CAÇAMBA DA RETRO: 0,26 M³/POTÊNCIA: 88 HP), LARGURA 0,8 A 1,5 M, PROFUNDIDADE 1,5 A 3,0 M, COM SOLO (SEM SUBSTITUIÇÃO) DE 1ª CATEGORIA E COMPACTADOR DE SOLOS DE PERCUSSÃO. AF_08/2023 | C41: M3 | D41: 176.53 | F41: BDI 1 | G41: ='COMPOSIÇÃO DO BDI'!$C$24 -> 0 | H41: =ROUND(E41*(1+G41),2) -> 0 | I41: =ROUND(D41*H41,2) -> 0
A42: 1.3.2.0.3. | B42: REATERRO MECANIZADO DE VALA COM ESCAVADEIRA HIDRÁULICA (CAPACIDADE DA CAÇAMBA: 0,8 M³/POTÊNCIA: 111 HP), LARGURA ATÉ 1,5 M, PROFUNDIDADE DE 3,0 A 6,0 M, COM SOLO (SEM SUBSTITUIÇÃO) DE 1ª CATEGORIA, COM PLACA VIBRATÓRIA. AF_08/2023 | C42: M3 | D42: 1295.91 | F42: BDI 1 | G42: ='COMPOSIÇÃO DO BDI'!$C$24 -> 0 | H42: =ROUND(E42*(1+G42),2) -> 0 | I42: =ROUND(D42*H42,2) -> 0
A43: 1.3.3. | B43: Carga, transporte e descarga | I43: =SUBTOTAL(9,I44:I46) -> 0
...

Sheet COMPOSIÇÃO DO BDI
A1: SAEG – COMPANHIA DE SERVIÇO DE ÁGUA, ESGOTO E RESÍDUOS DE GUARATINGUETÁ
A2: CNPJ 09.134.807/0001-91 – Guaratinguetá/SP
A3: PROCESSO DE LICITAÇÃO Nº 007/2026
A4: MODELO – COMPOSIÇÃO DO BDI
A5: Objeto: Construção do Sistema de Esgotamento Sanitário (SES) Eng. Neiva – Vila Bela – Guaratinguetá/SP
A7: Licitante (razão social):
A8: CNPJ:
A10: COMO PREENCHER
A11: 1. Digite nas células amarelas o percentual de cada componente (ex.: para 4,93% digite 4,93%). Se o componente não se aplicar, digite 0%.
A12: 2. Há três BDIs, um para cada tipo de item da planilha de preços. Preencha as três colunas.
A13: 3. O BDI final é calculado automaticamente e levado para a aba "PLANILHA DE PREÇOS".
A15: Componente | B15: Sigla | C15: BDI 1 Obras e serviços (Metas 1 a 21) | D15: BDI 2 Materiais e equipamentos | E15: BDI 3 Administração local (Meta 22) | F15: O que informar
A16: Administração Central | B16: AC | F16: Despesas da sede da empresa rateadas para esta obra.
A17: Seguro e Garantia | B17: SG | F17: Custo com seguros e com a garantia contratual.
A18: Risco | B18: R | F18: Reserva para imprevistos da execução.
A19: Despesas Financeiras | B19: DF | F19: Custo financeiro entre o gasto e o recebimento das medições.
A20: Lucro | B20: L | F20: Margem de lucro da empresa.
A21: PIS + COFINS | B21: PIS/COFINS | F21: Conforme o regime tributário da empresa (ex.: 3,65% no lucro presumido).
A22: ISS | B22: ISS | F22: Alíquota efetiva do ISS municipal sobre o preço.
A23: Contribuição Previdenciária sobre a Receita Bruta | B23: CPRB | F23: 0% se a empresa não for desonerada; 4,5% se for desonerada.
A24: BDI FINAL (calculado automaticamente) | B24: BDI | C24: =ROUND(((1+C16+C17+C18)*(1+C19)*(1+C20))/(1-(C21+C22+C23))-1,4) -> 0 | D24: =ROUND(((1+D16+D17+D18)*(1+D19)*(1+D20))/(1-(D21+D22+D23))-1,4) -> 0 | E24: =ROUND(((1+E16+E17+E18)*(1+E19)*(1+E20))/(1-(E21+E22+E23))-1,4) -> 0 | F24: Este percentual é aplicado sobre o custo de cada item.
A26: Fórmula utilizada (Acórdão TCU nº 2.622/2013 – Plenário): BDI = [(1 + AC + SG + R) × (1 + DF) × (1 + L)] ÷ [1 − (PIS/COFINS + ISS + CPRB)] − 1
A27: Não incluir no BDI o IRPJ e a CSLL, nem despesas que já constam como itens da planilha (ex.: administração local).
A29: Regime tributário da empresa:
A31: Local e data: ____________________________, ____ de ______________ de 2026.
A35: _______________________________________ | D35: _______________________________________
A36: Representante legal da licitante Nome / CPF | D36: Responsável técnico Nome / CREA ou CAU
